BEGIN:VCALENDAR
VERSION:2.0
PRODID:-//Agile Mind - ECPv6.6.0//NONSGML v1.0//EN
CALSCALE:GREGORIAN
METHOD:PUBLISH
X-WR-CALNAME:Agile Mind
X-ORIGINAL-URL:https://www.agilemind.com
X-WR-CALDESC:Events for Agile Mind
REFRESH-INTERVAL;VALUE=DURATION:PT1H
X-Robots-Tag:noindex
X-PUBLISHED-TTL:PT1H
BEGIN:VTIMEZONE
TZID:UTC
BEGIN:STANDARD
TZOFFSETFROM:+0000
TZOFFSETTO:+0000
TZNAME:UTC
DTSTART:20230101T000000
END:STANDARD
TZID:UTC
BEGIN:STANDARD
TZOFFSETFROM:+0000
TZOFFSETTO:+0000
TZNAME:UTC
DTSTART:20230101T000000
END:STANDARD
END:VTIMEZONE
BEGIN:VEVENT
DTSTART;TZID=UTC:20231025T100000
DTEND;TZID=UTC:20231025T103000
DTSTAMP:20260425T222125
CREATED:20230928T191017Z
LAST-MODIFIED:20230928T191017Z
UID:10000263-1698228000-1698229800@www.agilemind.com
SUMMARY:Accelerate Math Learning with SEAD - MI
DESCRIPTION:powered by Crowdcast
URL:https://www.agilemind.com/event/accelerate-math-learning-with-sead-102523/
CATEGORIES:Luncheon,Webinar
END:VEVENT
BEGIN:VEVENT
DTSTART;TZID=UTC:20231025T120000
DTEND;TZID=UTC:20231025T123000
DTSTAMP:20260425T222125
CREATED:20230928T191308Z
LAST-MODIFIED:20230929T175445Z
UID:10000264-1698235200-1698237000@www.agilemind.com
SUMMARY:Accelerate Math Learning with SEAD - CA PNW
DESCRIPTION:powered by Crowdcast
URL:https://www.agilemind.com/event/accelerate-math-learning-with-sead-102523-ca/
CATEGORIES:Luncheon,Webinar
END:VEVENT
END:VCALENDAR