BEGIN:VCALENDAR
VERSION:2.0
PRODID:-//Agile Mind - ECPv6.6.0//NONSGML v1.0//EN
CALSCALE:GREGORIAN
METHOD:PUBLISH
X-ORIGINAL-URL:https://www.agilemind.com
X-WR-CALDESC:Events for Agile Mind
REFRESH-INTERVAL;VALUE=DURATION:PT1H
X-Robots-Tag:noindex
X-PUBLISHED-TTL:PT1H
BEGIN:VTIMEZONE
TZID:America/New_York
BEGIN:DAYLIGHT
TZOFFSETFROM:-0500
TZOFFSETTO:-0400
TZNAME:EDT
DTSTART:20220313T070000
END:DAYLIGHT
BEGIN:STANDARD
TZOFFSETFROM:-0400
TZOFFSETTO:-0500
TZNAME:EST
DTSTART:20221106T060000
END:STANDARD
END:VTIMEZONE
BEGIN:VEVENT
DTSTART;TZID=America/New_York:20220524T130000
DTEND;TZID=America/New_York:20220524T140000
DTSTAMP:20260422T012502
CREATED:20220510T160305Z
LAST-MODIFIED:20220510T160305Z
UID:10000260-1653397200-1653400800@www.agilemind.com
SUMMARY:Integrating SEAD for Equity in Mathematics
DESCRIPTION:| 1:00 – 2:00 pm Central Time Zone |\nWe are inviting you to a virtual Lunch & Learn. During our time together\, we will collaborate on how to best support students’ social\, emotional\, and academic development (SEAD) needs in these challenging times. \nJoin us as we explore how educators can\n– Develop students’ learning mindsets and self-management skills in rich problem-solving scenarios\n– Intensify and accelerate students’ unfinished learning while building their confidence and capability with grade-level concept\n– Fully integrate SEAD competencies with mathematics and science learning. \n\n\n\n\n\n\n\n\n\n\n\nThose who register and attend will receive a free lunch voucher to enjoy as we collaborate to consider the knowledge and skills that are transforming learning experiences and lives.
URL:https://www.agilemind.com/event/integrating-sead-for-equity-in-mathematics/
CATEGORIES:Luncheon,Webinar
END:VEVENT
BEGIN:VEVENT
DTSTART;VALUE=DATE:20220531
DTEND;VALUE=DATE:20220602
DTSTAMP:20260422T012502
CREATED:20220517T215348Z
LAST-MODIFIED:20220517T215348Z
UID:10000239-1653955200-1654127999@www.agilemind.com
SUMMARY:LA Teacher Leader Summit 2022
DESCRIPTION:We will be at the LA Teacher Leader Summit on May 31st! Agile Mind is a longtime LA DOE partner and Tier I curriculum provider for our middle and high school mathematics programs\, which are co-authored by The Charles A. Dana Center at The University of Texas at Austin. We are honored to partner with so many district leaders and teachers across the state. \nPlease come by Booth #109 to say hello! \nYou also won’t want to miss these sessions: \n\n\n\n\n\nWe look forward to seeing you and coming back together to learn and collaborate. Be sure to stop by our booth early to inquire about our Happy Hour!
URL:https://www.agilemind.com/event/la-teacher-leader-summit-2022/
CATEGORIES:Learning
END:VEVENT
END:VCALENDAR