BEGIN:VCALENDAR
VERSION:2.0
PRODID:-//Agile Mind - ECPv6.6.0//NONSGML v1.0//EN
CALSCALE:GREGORIAN
METHOD:PUBLISH
X-WR-CALNAME:Agile Mind
X-ORIGINAL-URL:https://www.agilemind.com
X-WR-CALDESC:Events for Agile Mind
REFRESH-INTERVAL;VALUE=DURATION:PT1H
X-Robots-Tag:noindex
X-PUBLISHED-TTL:PT1H
BEGIN:VTIMEZONE
TZID:America/New_York
BEGIN:DAYLIGHT
TZOFFSETFROM:-0500
TZOFFSETTO:-0400
TZNAME:EDT
DTSTART:20220313T070000
END:DAYLIGHT
BEGIN:STANDARD
TZOFFSETFROM:-0400
TZOFFSETTO:-0500
TZNAME:EST
DTSTART:20221106T060000
END:STANDARD
END:VTIMEZONE
BEGIN:VEVENT
DTSTART;TZID=America/New_York:20220315T120000
DTEND;TZID=America/New_York:20220315T130000
DTSTAMP:20260422T060343
CREATED:20220224T210928Z
LAST-MODIFIED:20220224T211646Z
UID:10000254-1647345600-1647349200@www.agilemind.com
SUMMARY:Intensified Algebra I Lunch & Learn
DESCRIPTION:| 1:00 pm-2:00 pm Eastern Time Zone |\nStruggling students need a powerful combination of additional time\, a challenging curriculum\, and cohesive\, targeted supports and interventions. Agile Mind provides tools and teaching supports to help students stay on track\, graduate on time\, and gain passage to advanced learning. We have programs for Intensified Algebra I and Intensified Mathematics I. \nJoin us virtually to:\n• Collaborate with regional educators to explore strategies that strengthen the learning culture and student connection for adolescent learners.\n• Explore leader perspectives on how Intensified Algebra equips teachers with proven practices that supports an equitable approach to truly accelerating unfinished learning\n• Review examples of the transformative impact of this approach on teachers and their practices\n• See a demonstration of the Intensified Algebra program and its resources \n\n\n\n\n\n\n\n\n\n\n\nThose who register and attend will receive a free lunch voucher to enjoy as we collaborate to consider the knowledge and skills that are transforming learning experiences and lives.
URL:https://www.agilemind.com/event/intensified-algebra-i-mid-atl-lunch-and-learn/
CATEGORIES:Luncheon,Webinar
END:VEVENT
BEGIN:VEVENT
DTSTART;TZID=America/New_York:20220323T130000
DTEND;TZID=America/New_York:20220323T140000
DTSTAMP:20260422T060343
CREATED:20220224T211517Z
LAST-MODIFIED:20220318T212106Z
UID:10000255-1648040400-1648044000@www.agilemind.com
SUMMARY:Integrating SEL with Mathematics Lunch & Learn
DESCRIPTION:| 11:00 – 12:00 pm Pacific Time Zone |\nWe are inviting you to a virtual Lunch & Learn for CA educators. During our time together\, we will collaborate on how to best support students’ social\, emotional\, and academic development (SEAD) needs in these challenging times. \nJoin us as we explore how educators can\n– Develop students’ learning mindsets and self-management skills in rich problem-solving scenarios\n– Intensify and accelerate students’ unfinished learning while building their confidence and capability with grade-level concept\n– Fully integrate SEL competencies with mathematics and science learning. \n\n\n\n\n\n\n\n\n\n\n\nThose who register and attend will receive a free lunch voucher to enjoy as we collaborate to consider the knowledge and skills that are transforming learning experiences and lives.
URL:https://www.agilemind.com/event/integrating-sel-with-mathematics/
CATEGORIES:Luncheon,Webinar
END:VEVENT
END:VCALENDAR